BEGIN:VCALENDAR
VERSION:2.0
PRODID:-//Sabre//Sabre VObject 4.5.8//EN
CALSCALE:GREGORIAN
BEGIN:VEVENT
UID:sabre-vobject-c2faf034-bd6f-4146-b860-6ca498c13559
DTSTAMP:20260426T040825Z
SUMMARY:Ausverkauft: Be your own Superhero
DESCRIPTION:Eine interaktive Gesprächsrunde für Jugendliche über Zukunft
 sperspektiven\, persönliche Stärken und Entscheidungsspielräume – mit
  Raum für Fragen\, Zweifel und Träume.\\n\\nJung\, in der Schule und ohn
 e klare Vorstellung der eigenen Zukunft – möglicherweise bestehen Unsic
 herheiten oder Ängste? Kein Problem. In dieser gemeinsamen Session wird 
 über Wünsche\, Träume\, Talente und darüber gesprochen\, was in dieser
  Welt aus dem eigenen Leben gemacht werden kann. Welche Möglichkeiten bes
 tehen und wo eigene Entscheidungen getroffen werden können.\\n\\nAli Mahl
 odji ist ein inspirierender Unternehmer\, Brückenbauer\, Inspiration und 
 Wegweiser\, der sich weltweit für die Zukunft von Arbeit\, Bildung und ge
 sellschaftlichen Wandel einsetzt. Er gibt Jugendlichen Orientierung\, Füh
 rungskräften Klarheit und hilft Menschen\, ihrem inneren Ruf zu folgen.\\
 n\\nGeboren 1981 in Teheran\, kam Ali Mahlodji als Flüchtlingskind nach 
 Österreich. Dort wuchs er in einem Asylheim auf. Sein Lebensweg war alles
  andere als geradlinig – er brach die Schule ab und arbeitete in über 4
 0 verschiedenen Berufen\, bevor er seinen eigenen Weg fand.\\n\\nNach Stat
 ionen als Manager in einem internationalen Konzern kehrte er der klassisch
 en Karriere den Rücken\, wurde Lehrer und schliesslich Gründer von whatc
 hado\, der europaweit führenden Berufsorientierungsplattform. Sein Ziel: 
 Junge Menschen inspirieren\, ihre eigenen Stärken zu entdecken und ihnen 
 zeigen\, dass jeder Lebensweg individuell ist.\\n\\nMahlodji: «Wenn ich e
 s auch nur schaffe\, die Perspektive einer einzigen Person zu verändern\,
  habe ich das Weltbild und damit die Zukunft dieser Person gerettet.»
LOCATION:TAK Theater Liechtenstein\, Reberastrasse 10 - 12\, 9494 Schaan
DTSTART;TZID=Europe/Zurich:20260428T100000
DTEND;TZID=Europe/Zurich:20260428T110000
ORGANIZER:TAK
END:VEVENT
END:VCALENDAR
