BEGIN:VCALENDAR
VERSION:2.0
PRODID:-//Sabre//Sabre VObject 4.5.8//EN
CALSCALE:GREGORIAN
BEGIN:VEVENT
UID:sabre-vobject-2ef0c119-ff8c-4cc9-85e9-b76c610015d2
DTSTAMP:20260424T110149Z
SUMMARY:Schenk und Nimm Tag\, Alte Mühle Gams
DESCRIPTION:Freitag 23.10.26 | 18 - 20 Uhr\\nSchenken\\n\\nSamstag 24.10.26
  | 9 - 12 Uhr\\nSchenken und Nehmen
LOCATION:Alte Mühle Gams\, Müliweg 5\, 9473 Gams
DTSTART;TZID=Europe/Zurich:20261024T090000
DTEND;TZID=Europe/Zurich:20261024T120000
ORGANIZER:KarMa
END:VEVENT
END:VCALENDAR
