BEGIN:VCALENDAR
VERSION:2.0
PRODID:-//Sabre//Sabre VObject 4.5.8//EN
CALSCALE:GREGORIAN
BEGIN:VEVENT
UID:sabre-vobject-4d6e6562-11df-4a7e-a653-a7b42819403f
DTSTAMP:20260424T060448Z
SUMMARY:MG Hugelshofen
DESCRIPTION:Die Musikgesellschaft Hugelshofen ist zu Gast am Ekkharthof und
  lädt zu einem stimmungsvollen Konzert ein. Mit ihrem abwechslungsreichen
  Blasmusik-Repertoire sorgt sie für einen klangvollen Abend in besonderer
  Atmosphäre.\\n\n\\n\nGeniessen Sie Musik\, Begegnung und den Ekkharthof 
 als Ort der Kultur und Gemeinschaft – wir freuen uns auf Ihren Besuch.
LOCATION:Ekkharthof\, Rütelistrasse 2\, 8574 Lengwil
DTSTART;TZID=Europe/Zurich:20260424T190000
DTEND;TZID=Europe/Zurich:20260424T210000
ORGANIZER:Ekkharthof
END:VEVENT
END:VCALENDAR
