BEGIN:VCALENDAR
VERSION:2.0
PRODID:-//Sabre//Sabre VObject 4.5.8//EN
CALSCALE:GREGORIAN
BEGIN:VEVENT
UID:sabre-vobject-67a04a3f-7e52-4cba-be72-7c5ac008aabd
DTSTAMP:20260424T105505Z
SUMMARY:Trendshow
DESCRIPTION:
LOCATION:dGass\, Bahnhofstrasse\, 9470 Buchs
DTSTART;TZID=Europe/Zurich:20260502T150000
DTEND;TZID=Europe/Zurich:20260502T153000
ORGANIZER:JAM 29 Aerobic Factory
END:VEVENT
END:VCALENDAR
