BEGIN:VCALENDAR
VERSION:2.0
PRODID:-//Sabre//Sabre VObject 4.5.8//EN
CALSCALE:GREGORIAN
BEGIN:VEVENT
UID:sabre-vobject-0c03404a-de90-4cb9-a25e-a1f8f5caae4f
DTSTAMP:20260424T105536Z
SUMMARY:Trendshow
DESCRIPTION:
LOCATION:dGass\, Bahnhofstrasse\, 9470 Buchs
DTSTART;TZID=Europe/Zurich:20260502T130000
DTEND;TZID=Europe/Zurich:20260502T133000
ORGANIZER:JAM 29 Aerobic Factory
END:VEVENT
END:VCALENDAR
