BEGIN:VCALENDAR
VERSION:2.0
PRODID:-//Sabre//Sabre VObject 4.5.8//EN
CALSCALE:GREGORIAN
BEGIN:VEVENT
UID:sabre-vobject-efaa5898-b8e5-4b93-97bb-c7fcd32567ff
DTSTAMP:20260420T060526Z
SUMMARY:Kreativ-Raum für Alle
DESCRIPTION:Jeden zweiten Montag offenes Atelier für Alle.\n \nMöchtest 
 du dich gestalterisch weiterentwickeln oder in der Kreativität deinen per
 sönlichen Themen Ausdruck verleihen? Alles hat Platz\, Farben und Materia
 lien sind vorhanden.\n   \n \nEintritt frei\, wer kann\, gibt etwas in 
 die Kollekte.\n \nAnmeldung bei Rahel 078 899 42 24\n \nHerzlich willkom
 men!\n \nFlyer\n \n \nHerzlichen Dank für die Unterstützung\n unterst
 ützt Männertreff\, Vater-Kind-Treffen\, Kreativ-Raum für Erwachsene\, K
 inderbetreuung in Projekten für Erwachsene\n \n \nFlyer generell
LOCATION:tiRumpel\, Stahlstrasse 3\, 9000 St. Gallen
DTSTART;TZID=Europe/Zurich:20260504T133000
DTEND;TZID=Europe/Zurich:20260504T153000
ORGANIZER:Verein tiRumpel
END:VEVENT
END:VCALENDAR
