BEGIN:VCALENDAR
VERSION:2.0
PRODID:-//Sabre//Sabre VObject 4.5.8//EN
CALSCALE:GREGORIAN
BEGIN:VEVENT
UID:sabre-vobject-4e66b5db-2beb-4423-97cb-b1b6b7740934
DTSTAMP:20260422T163459Z
SUMMARY:Yoga für Alle
DESCRIPTION:Für Kinder\, Jugendliche und Erwachsene.  Es sind keine Yogak
 enntnisse erforderlich. Yogamatten sind vorhanden. Bringe bequeme Kleidung
  mit.\n \nAnmeldung erwünscht: 077 435 43 41 (Ishtar)\n \n \n\n 
LOCATION:tiRumpel\, Stahlstrasse 3\, 9000 St. Gallen
DTSTART;TZID=Europe/Zurich:20260603T183000
DTEND;TZID=Europe/Zurich:20260603T194500
ORGANIZER:Verein tiRumpel
END:VEVENT
END:VCALENDAR
