BEGIN:VCALENDAR
VERSION:2.0
PRODID:-//Sabre//Sabre VObject 4.5.8//EN
CALSCALE:GREGORIAN
BEGIN:VEVENT
UID:sabre-vobject-07cfb8d2-ad85-4f94-b911-e753e3f3a4ba
DTSTAMP:20260422T163654Z
SUMMARY:Yoga für Alle
DESCRIPTION:Für Kinder\, Jugendliche und Erwachsene.  Es sind keine Yogak
 enntnisse erforderlich. Yogamatten sind vorhanden. Bringe bequeme Kleidung
  mit.\n \nAnmeldung erwünscht: 077 435 43 41 (Ishtar)\n \n \n\n 
LOCATION:tiRumpel\, Stahlstrasse 3\, 9000 St. Gallen
DTSTART;TZID=Europe/Zurich:20260527T183000
DTEND;TZID=Europe/Zurich:20260527T194500
ORGANIZER:Verein tiRumpel
END:VEVENT
END:VCALENDAR
