BEGIN:VCALENDAR
VERSION:2.0
PRODID:-//Sabre//Sabre VObject 4.5.8//EN
CALSCALE:GREGORIAN
BEGIN:VEVENT
UID:sabre-vobject-f430dc3e-3a90-420e-8d90-a44b47e1818e
DTSTAMP:20260422T164001Z
SUMMARY:Yoga für Alle
DESCRIPTION:Für Kinder\, Jugendliche und Erwachsene.  Es sind keine Yogak
 enntnisse erforderlich. Yogamatten sind vorhanden. Bringe bequeme Kleidung
  mit.\n \nAnmeldung erwünscht: 077 435 43 41 (Ishtar)\n \n \n\n 
LOCATION:tiRumpel\, Stahlstrasse 3\, 9000 St. Gallen
DTSTART;TZID=Europe/Zurich:20260422T183000
DTEND;TZID=Europe/Zurich:20260422T194500
ORGANIZER:Verein tiRumpel
END:VEVENT
END:VCALENDAR
