BEGIN:VCALENDAR
VERSION:2.0
PRODID:-//Sabre//Sabre VObject 4.5.8//EN
CALSCALE:GREGORIAN
BEGIN:VEVENT
UID:sabre-vobject-e1c9c86a-93bc-4f7b-b63a-54ccf190d5ed
DTSTAMP:20260420T060425Z
SUMMARY:Malatelier für Alle und Eltern-Kind-Malen
DESCRIPTION:Infos und Anmeldung\\nClaudia 079 472 11 10\n \nEintritt frei\
 , Kollekte - auch wenn du keinen Beitrag geben kannst\, bist du herzlich w
 illkommen.\n \nim Malatelier neben dem Kinderlokal tiRumpel\n \n \nFlye
 r\n \n \nFlyer Grundinfo zeitlos\n \n 
LOCATION:tiRumpel\, Stahlstrasse 3\, 9000 St. Gallen
DTSTART;TZID=Europe/Zurich:20260615T091500
DTEND;TZID=Europe/Zurich:20260615T111500
ORGANIZER:Verein tiRumpel
END:VEVENT
END:VCALENDAR
