BEGIN:VCALENDAR
VERSION:2.0
PRODID:-//Sabre//Sabre VObject 4.5.8//EN
CALSCALE:GREGORIAN
BEGIN:VEVENT
UID:sabre-vobject-77e482ec-9623-4494-98b3-b65629689cd8
DTSTAMP:20260420T060533Z
SUMMARY:Malatelier für Alle und Eltern-Kind-Malen
DESCRIPTION:Infos und Anmeldung\\nClaudia 079 472 11 10\n \nEintritt frei\
 , Kollekte - auch wenn du keinen Beitrag geben kannst\, bist du herzlich w
 illkommen.\n \nim Malatelier neben dem Kinderlokal tiRumpel\n \n \nFlye
 r\n \n \nFlyer Grundinfo zeitlos\n \n 
LOCATION:tiRumpel\, Stahlstrasse 3\, 9000 St. Gallen
DTSTART;TZID=Europe/Zurich:20260504T091500
DTEND;TZID=Europe/Zurich:20260504T111500
ORGANIZER:Verein tiRumpel
END:VEVENT
END:VCALENDAR
