BEGIN:VCALENDAR
VERSION:2.0
PRODID:-//Sabre//Sabre VObject 4.5.8//EN
CALSCALE:GREGORIAN
BEGIN:VEVENT
UID:sabre-vobject-498b2ecf-632d-4bdb-aaa4-f1f6a312e6f2
DTSTAMP:20260420T190423Z
SUMMARY:Klavierquintette von Brahms und Dvořák
DESCRIPTION:ProgrammJohannes Brahms (1833–1897): \\nKlavierquintett in f-
 Moll\, op. 34\\nI. Allegro non troppo\\nII. Andante\, un poco adagio\\nIII
 . Scherzo. Allegro\\nIV. Finale. Poco sostenuto – Allegro non troppo –
  Presto non troppo\\n\\nAntonín Dvořák (1841–1904):\\nKlavierquintet
 t in A-Dur\, op. 81 Nr. 2\\nI. Allegro\, ma non tanto\\nII. Dumka. Andante
  con moto\\nIII. Scherzo (Furiant). Molto vivace – Poco tranquillo\\nIV.
  Finale. Allegro
LOCATION:Hagenhaus\, Feldkircher Strasse 18\, 9485 Nendeln
DTSTART;TZID=Europe/Zurich:20260421T190000
DTEND;TZID=Europe/Zurich:20260421T230000
ORGANIZER:Musikakademie Betreibergesellschaft Anstalt
END:VEVENT
END:VCALENDAR
