BEGIN:VCALENDAR
VERSION:2.0
PRODID:-//Sabre//Sabre VObject 4.5.8//EN
CALSCALE:GREGORIAN
BEGIN:VEVENT
UID:sabre-vobject-9ee5b3ee-600e-4e0b-9576-b0e1dd81cec7
DTSTAMP:20260422T223739Z
SUMMARY:Vivaldi\, Corelli & Co.
DESCRIPTION:An exklusiven Locations entspannt in einen klingenden Feieraben
 d starten und dazu einen Drink geniessen – ist das Musik in Ihren Ohren?
  Dann ist die After-Work-Reihe genau das Richtige für Sie! Mitglieder de
 s Sinfonieorchesters St. Gallen bieten Ihnen zum Feierabend Konzerte in un
 terschiedlichen Formationen: Vom Quartett bis zur grossen sinfonischen Bes
 etzung ist in dieser Konzertreihe alles anzutreffen.
LOCATION:Palace\, Zwinglistrasse 3\, 9000 St. Gallen
DTSTART;TZID=Europe/Zurich:20260423T180000
DTEND;TZID=Europe/Zurich:20260423T180000
ORGANIZER:Konzert und Theater St.Gallen
END:VEVENT
END:VCALENDAR
