BEGIN:VCALENDAR
VERSION:2.0
PRODID:-//Sabre//Sabre VObject 4.5.8//EN
CALSCALE:GREGORIAN
BEGIN:VEVENT
UID:sabre-vobject-6898fb87-1151-4b86-87f6-1f98df8ed483
DTSTAMP:20260425T142133Z
SUMMARY:Theaterkurs für Kinder (8-11)
DESCRIPTION:Theater ist ein Kinderspiel. Und darin bist du Profi. An einem 
 Wochenende spielst du mit anderen Kindern ganz viel Theater. In künstleri
 scher und pädagogischer Begleitung von Schauspielerin Diana Dengler und d
 en Regisseurinnen Anja Horst und Susanne Schemschies können Kinder Theate
 rluft schnuppern. Während zweier Halbtage schlüpfen sie in Figuren\, üb
 en sich im Rollenspiel und erwecken Geschichten zum Leben. Gemeinsames Aus
 probieren\, Kreativsein und die Spielfreude stehen dabei im Zentrum.
LOCATION:Probebühne\, Dürrenmattstrasse 24\, 9000 St. Gallen
DTSTART;TZID=Europe/Zurich:20260425T141500
DTEND;TZID=Europe/Zurich:20260425T141500
ORGANIZER:Konzert und Theater St.Gallen
END:VEVENT
END:VCALENDAR
