BEGIN:VCALENDAR
VERSION:2.0
PRODID:-//Sabre//Sabre VObject 4.5.8//EN
CALSCALE:GREGORIAN
BEGIN:VEVENT
UID:sabre-vobject-00f0a40b-c498-4830-a04f-8739effe07e6
DTSTAMP:20260421T060914Z
SUMMARY:Pirmin Huber – «Swiss Folk»
DESCRIPTION:Mit «Pirmin Huber Swiss Folk» entstand 2020 die Idee\, Eigenk
 ompositionen auf der Basis von volksmusikalischen Komponenten wie Jütze\,
  Stümpeli\, Schottisch sowohl innerhalb wie auch ausserhalb der Schweiz z
 u präsentieren und das Publikum mit faszinierenden Kombinationen aus arch
 aischer Schweizer Volksmusik und groovigem Pop-Jazz zu verblüffen.In der 
 instrumentalen Grundzusammensetzung mit «Pirmin Huber Swiss Folk» ist Pi
 rmin Huber frei. Im Zentrum steht Pirmin Huber mit seinem Kontrabass\, wel
 chem er gekonnt und mit ausdruckstarker Spielfreude erdige\, archaische T
 öne wie auch groovige\, innovative und ungewohnte Klänge entlockt.Für M
 usizierende mit volksmusikalischem Hintergrund ist das Stegreifspiel eine 
 bekannte Spielweise. Diese Technik setzt Pirmin Huber gekonnt als Bindegli
 ed mit dem Kontrabass zwischen archaischen und innovativen Klangelement in
  seinen Kompositionen ein. Dies erlaubt ihm bei «Pirmin Huber Swiss Folk
 » auf eine Basis Instrumentalisierung aufzubauen (Kontrabass\, Piano\, Ge
 ige\, Schlagzeug)\, diese allerdings auch beliebig mit Schwyzerörgeli\, A
 kkordeon\, Büchel\, Jodel und weiteren Instrumenten aus der Volksmusik an
 zureichern.
LOCATION:Altes Kino Mels\, Sarganserstrasse 66\, 8887 Mels
DTSTART;TZID=Europe/Zurich:20260425T201500
DTEND;TZID=Europe/Zurich:20260425T221500
ORGANIZER:Altes Kino Mels
END:VEVENT
END:VCALENDAR
