BEGIN:VCALENDAR
VERSION:2.0
PRODID:-//Sabre//Sabre VObject 4.5.8//EN
CALSCALE:GREGORIAN
BEGIN:VEVENT
UID:sabre-vobject-b784f421-e288-4d01-bc04-972de5a94f8c
DTSTAMP:20260422T105734Z
SUMMARY:Setteretalbuebe
DESCRIPTION:Appenzellermusik mit Hackbrett &amp\; Akkordeonduett
LOCATION:Hotel Hof Weissbad\, Im Park 1\, 9057 Weissbad
DTSTART;TZID=Europe/Zurich:20260520T200000
DTEND;TZID=Europe/Zurich:20260520T200000
ORGANIZER:
END:VEVENT
END:VCALENDAR
