BEGIN:VCALENDAR
VERSION:2.0
PRODID:-//Sabre//Sabre VObject 4.5.8//EN
CALSCALE:GREGORIAN
BEGIN:VEVENT
UID:sabre-vobject-f001f95d-f5f0-48dd-bd09-388f078d717f
DTSTAMP:20260422T110119Z
SUMMARY:Kapelle Warth-Buebe
DESCRIPTION:Hackbrett\, Bassgeige\, Handorgeln
LOCATION:Hotel Hof Weissbad\, Im Park 1\, 9057 Weissbad
DTSTART;TZID=Europe/Zurich:20260513T200000
DTEND;TZID=Europe/Zurich:20260513T200000
ORGANIZER:
END:VEVENT
END:VCALENDAR
