BEGIN:VCALENDAR
VERSION:2.0
PRODID:-//Sabre//Sabre VObject 4.5.8//EN
CALSCALE:GREGORIAN
BEGIN:VEVENT
UID:sabre-vobject-2554822a-30bc-494e-a91c-5668fe05ee53
DTSTAMP:20260424T123238Z
SUMMARY:Das kleine 1x1 der Sterne
DESCRIPTION:Ein spannendes Fulldome-Abenteuer für die ganze Familie\nWähr
 end Tim zusammen mit seinem Bruder Mark und Marks Freundin die Sterne beob
 achtet und einige markante Sternbilder kennenlernt\, sieht er eine Sternsc
 hnuppe und hat den Wunsch\, zum Mond zu fliegen. Und sein Wunsch wird Real
 ität: Plötzlich befinden sich die drei an Bord eines Raumschiffs gebeamt
  und reisen durch das Sonnensystem. Doch auf ihrem Abenteuer kommen sie de
 r Sonne gefährlich nahe - können sie sich vor dem Verglühen retten?\n«
 Das Kleine 1x1 der Sterne» ist ein spannendes Planetariums-Abenteuer für
  die ganze Familie. Es vermittelt einfaches astronomisches Grundwissen in 
 der Kombination von kuppelfüllenden Videobildern mit eindrücklichen Proj
 ektionen des Sternenhimmels.\nAb 6 Jahren\, Dauer ca. 45 Min.
LOCATION:Bodensee Planetarium und Sternwarte\, Breitenrainstrasse 21\, 8280
  Kreuzlingen
DTSTART;TZID=Europe/Zurich:20260517T160000
DTEND;TZID=Europe/Zurich:20260517T160000
ORGANIZER:Bodensee Planetarium und Sternwarte
END:VEVENT
END:VCALENDAR
