BEGIN:VCALENDAR
VERSION:2.0
PRODID:-//Sabre//Sabre VObject 4.5.8//EN
CALSCALE:GREGORIAN
BEGIN:VEVENT
UID:sabre-vobject-cfdf0332-38f9-4361-9205-2a80bc4d9665
DTSTAMP:20260421T181414Z
SUMMARY:Führung
DESCRIPTION:Freuen Sie sich auf eine einstündige Führung durch das Museum
 .\\n \\nDie öffentliche Führung widmet sich der Geschichte der Firma Do
 rnier. Sie beginnt beim Einstieg Claude Dorniers als Versuchsingenieur bei
  Zeppelin 1910 und endet beim Verkauf der Firma an Daimler-Benz 1985. Sie 
 gewährt Einblicke in die unterschiedlichen Bereiche der Ausstellung und g
 ibt dem Besucher Impulse für die weitere Entdeckungsreise im Museum.\nEin
 fach vorbeikommen und mitlaufen. Treffpunkt und Anmeldung an der Museumska
 sse. Bitte beachten Sie\, dass die Teilnehmerzahl begrenzt ist.
LOCATION:Dornier Museum\, Claude-Dornier-Platz 1\, 88046 Friedrichshafen
DTSTART;TZID=Europe/Zurich:20260516T113000
DTEND;TZID=Europe/Zurich:20260516T113000
ORGANIZER:
END:VEVENT
END:VCALENDAR
