BEGIN:VCALENDAR
VERSION:2.0
PRODID:-//Sabre//Sabre VObject 4.5.8//EN
CALSCALE:GREGORIAN
BEGIN:VEVENT
UID:sabre-vobject-c4567905-df33-440f-8623-e82e2eb578b2
DTSTAMP:20260424T133056Z
SUMMARY:Goofetheater
DESCRIPTION:Der Schauspieler PHILIPP LANGENEGGER und die Theaterpädagogin 
 ANGELIQUE KELLENBERGER begeistern Kinder für das Theater.\nFür alle Kind
 er ab 5 Jahren\, die gerne in andere Rollen schlüpfen\, sich verkleiden u
 nd Freude am Theaterspielen haben - mit allem\, was dazu gehört: Bühne\,
  Ton\, Licht\, Kostüm und Film.\nEs werden gemeinsam Geschichten erfunden
  und Szenen gespielt. Texte müssen nicht auswendig gelernt werden. Die Er
 arbeitung erfolgt über Improvisation\, Spiel und mit viel Freude.\\n \\n
 Hereinspaziert im GOOFETHEATER STUHLFABRIK!\\n \nLeitung:\\nPhilipp Lange
 negger &amp\; Angie Kellenberger\\n \\nDauer:\\nSamstag &amp\; Sonntag je
 weils von 09.30 Uhr bis 12.30 Uhr
LOCATION:Alte Stuhlfabrik\, Kasernenstrasse 39a\, 9100 Herisau
DTSTART;TZID=Europe/Zurich:20260531T093000
DTEND;TZID=Europe/Zurich:20260531T093000
ORGANIZER:
END:VEVENT
END:VCALENDAR
