BEGIN:VCALENDAR
VERSION:2.0
PRODID:-//Sabre//Sabre VObject 4.5.8//EN
CALSCALE:GREGORIAN
BEGIN:VEVENT
UID:sabre-vobject-0cf48fc5-c060-4976-a23a-bb8cbec3a4f0
DTSTAMP:20260421T140546Z
SUMMARY:Contrapunkt new art music: Blicklink
DESCRIPTION:In der Saison 2026 präsentiert das Mondrian Ensemble ein Konze
 rtprogramm\, das ganz im Zeichen neuer künstlerischer Begegnungen steht. 
 Drei Komponisten arbeiten erstmals mit dem Ensemble zusammen und stellen n
 eue Kompositionen vor: Dylan Lardelli (Neuseeland)\, Jalalu-Kalvert Nelson
  (USA/Schweiz) und Oliver Weber (Schweiz). Ergänzt wird das Programm durc
 h zwei bestehende Kompositionen: das Streichtrio Nr. 2 «Gesänge der Frü
 he» von Nadir Vassena\, sowie «blickblink» der Komponistin Joey Tan (Si
 ngapur).\nDas 2000 in Basel gegründete Mondrian Ensemble hat bedeutend zu
 r zeitgenössischen Musikszene beigetragen\, zahlreiche Uraufführungen ge
 spielt und intensiv mit Komponisten wie Dieter Ammann und Jürg Frey zusam
 mengearbeitet. Das Mondrian Ensemble kuratiert seine eigene Konzertreihe u
 nd tritt regelmässig in Europa auf. 2012 erhielt es das «Werkjahr für m
 usikalische Interpretation» der Stadt Zürich und 2018 den renommierten S
 chweizer Musikpreis. Die Musiker:innen wurden als «mutige Brückenbauer»
  beschrieben\, da sie in ihren Programmen verschiedene Musikstile miteinan
 der verbinden und historische Barrieren ignorieren. Das Mondrian Ensemble 
 beschäftigt sich sowohl mit klassisch-romantischer als auch mit zeitgenö
 ssischer Musik und bewegt sich oft über die Grenzen der Kammermusik hinau
 s\, indem es Improvisation\, Musiktheater und Tanz sowie elektronische Mus
 ik erforscht.
LOCATION:Kulturmuseum St.Gallen\, Museumstrasse 50\, 9000 St. Gallen
DTSTART;TZID=Europe/Zurich:20260511T200000
DTEND;TZID=Europe/Zurich:20260511T200000
ORGANIZER:
END:VEVENT
END:VCALENDAR
