BEGIN:VCALENDAR
VERSION:2.0
PRODID:-//Sabre//Sabre VObject 4.5.8//EN
CALSCALE:GREGORIAN
BEGIN:VEVENT
UID:sabre-vobject-47b0460b-4a03-4817-b130-ab1379f570aa
DTSTAMP:20260420T010944Z
SUMMARY:The Armed Man: A Mass for Peace
DESCRIPTION:Zusammen mit dem UniChor St.Gallen und dem Stadtorchester Fried
 richshafen singt der Oratorienchor  St.Gallen "The Armed Man" von Karl Je
 nkins. Dies unter der Leitung von Uwe Münch und Sarah Abrigada in St. Gal
 len und Pietro Sarno in Überlingen. Der Gebetsruf wird vom Imam Mehas Ali
 ja vorgetragen. Das Werk ist eines der eindrucksvollsten Chorwerke unserer
  Zeit. Es verbindet Elemente der klassischen Messe mit Musik aus verschied
 enen Kulturen und Epochen und setzt ein starkes Zeichen für Frieden und M
 enschlichkeit. Es führt von der Bedrohung des Krieges hin zu Hoffnung und
  Versöhnung und berührt durch seine emotionale Kraft und musikalische Vi
 elfalt.
LOCATION:Kirche St.Maria Neudorf\, Rorschacherstrasse 255\, 9016 St. Gallen
DTSTART;TZID=Europe/Zurich:20260516T180000
DTEND;TZID=Europe/Zurich:20260516T193000
ORGANIZER:Oratorienchor St. Gallen\, UniChor St. Gallen
END:VEVENT
END:VCALENDAR
