BEGIN:VCALENDAR
VERSION:2.0
PRODID:-//Sabre//Sabre VObject 4.5.8//EN
CALSCALE:GREGORIAN
BEGIN:VEVENT
UID:sabre-vobject-ecf7d54c-5b2b-455f-a239-58cf1393c2e0
DTSTAMP:20260423T051853Z
SUMMARY:Divine Comedy
DESCRIPTION:Bahram ist ein international gefeierter Filmemacher\, doch in s
 einer Heimat Iran durfte keiner seiner Filme je im Kino gezeigt werden. Al
 s das Kulturministerium ihm auch für sein neuestes Werk die Genehmigung v
 erweigert\, hat er genug. Gemeinsam mit seiner unerschrockenen Produzentin
  Sadaf beschliesst er\, eine heimliche Vorführung zu organisieren\, um se
 inen Film endlich den Menschen zu zeigen\, für die er eigentlich gedacht 
 ist. Auf der Suche nach einem geeigneten Ort düsen sie auf einer rosarote
 n Vespa durch Teheran und erleben eine Reihe absurder Begegnungen – mit 
 einem eitlen Schauspielstar\, einem süffisanten Kinobetreiber\, einem sel
 bsternannten Propheten –\, bis sie schliesslich bei einer reichen Tiersc
 hützerin landen\, die ihnen ihr stattliches Wohnzimmer zur Verfügung ste
 llen will … Mit trockenem Humor und feinem Gespür für die Absurdität 
 bürokratischer Macht erzählt Regisseur Ali Asgari eine ebenso verspielte
  wie politische Geschichte über Zensur\, staatliche Gängelung und kreati
 ve List. Die Reise durch Teheran wird zu einer dantesken Odyssee durch ein
  System voller Widersprüche\, in der sich Realität und Fiktion spiegeln.
  Sowohl in den Haupt- als auch in den Nebenrollen spielen bekannte iranisc
 he Filmschaffende fiktive Versionen ihrer selbst. Ein kluger\, selbstrefle
 xiver Film über das Kino als Ort der Freiheit – und als Akt des Widerst
 ands.\n 
LOCATION:Kinok – Cinema in der Lokremise\, Grünbergstrasse 7\, 9000 St. 
 Gallen
DTSTART;TZID=Europe/Zurich:20260502T165000
DTEND;TZID=Europe/Zurich:20260502T165000
ORGANIZER:Kinok – Cinema in der Lokremise
END:VEVENT
END:VCALENDAR
