BEGIN:VCALENDAR
VERSION:2.0
PRODID:-//Sabre//Sabre VObject 4.5.8//EN
CALSCALE:GREGORIAN
BEGIN:VEVENT
UID:sabre-vobject-19c59b5b-3c41-41c6-97cb-4c3c6150cc68
DTSTAMP:20260419T193400Z
SUMMARY:Simon Enzler
DESCRIPTION:Im nunmehr zehnten abendfüllenden Programm «zmetztinne» blei
 bt sich der Appenzeller Kabarettist Simon Enzler selber treu\, lässt aber
  künstlerische Entwicklungen zu\, wie er es seit jeher tut. Nun ist Simon
  Enzler genau «zmetztinne».\nZu alt um noch als Newcomer zu gelten\, zu 
 jung um schon ein Oldtimer zu sein\, steht er an einem entscheidenden Punk
 t in seinem Leben. Er wird 50. Und weil er schon als zartes Kraut von 15 J
 ahren auf der Bühne stand\, überblickt er mittlerweile dreieinhalb Jahrz
 ehnte als aufmerksamer Beobachter und wortgewaltiger Stammtischler. 
LOCATION:Casino Herisau\, Poststrasse 9\, 9100 Herisau
DTSTART;TZID=Europe/Zurich:20261113T200000
DTEND;TZID=Europe/Zurich:20261113T222000
ORGANIZER:domino Event SARL
END:VEVENT
END:VCALENDAR
