BEGIN:VCALENDAR
VERSION:2.0
PRODID:-//Sabre//Sabre VObject 4.5.8//EN
CALSCALE:GREGORIAN
BEGIN:VEVENT
UID:sabre-vobject-a442d0a3-cd46-48b8-aaa5-95afc953efbf
DTSTAMP:20260424T115305Z
SUMMARY:The Peter Summer Band
DESCRIPTION:Ein feines Stück Musikgeschichte aus verschiedenen Jahrzehnten
 . Songinterpretationen von Carl Perkins\, Gene Vincent\, Eric Clapton\, Jo
 hnny Cash\, Elvis Presley\, sowie weiteren Songperlen aus den Sparten Rock
  and Roll\, Country\, Blues und eine Vielzahl von Eigenkompositionen. \nL
 eidenschaftlicher Rock and Blues\, der mitreißt\, der berührt\, der alle
 s ist\, nur nicht verstaubt.
LOCATION:Heaven Music Club\, Hauptstrasse 35\, 8362 Balterswil
DTSTART;TZID=Europe/Zurich:20260508T210000
DTEND;TZID=Europe/Zurich:20260509T040000
ORGANIZER:Heaven Music Club
END:VEVENT
END:VCALENDAR
