BEGIN:VCALENDAR
VERSION:2.0
PRODID:-//Sabre//Sabre VObject 4.5.8//EN
CALSCALE:GREGORIAN
BEGIN:VEVENT
UID:sabre-vobject-e859ea23-8089-43b9-ba89-f6b50b74fe83
DTSTAMP:20260420T101339Z
SUMMARY:Fat Pencil Blues Band
DESCRIPTION:Fat Pencil\, die Bluesband mit dem unverkennbaren Sound\, inter
 pretiert Songs von B.B. King über Deep Purple bis Steppenwolf. Ein flexib
 les\, ständig erweitertes Repertoire\, erlaubt es\, auf die diversen Gege
 benheiten eines Anlasses einzugehen\, natürlich immer gemäss dem Motto: 
 Rock &amp\; Blues. \nBei einer Session anno 1994 trafen sich Peter Fritsc
 hi und sein Jugendfreund Oliver Ott nach inzwischen über 20 verstrichenen
  Jahren wieder\, und beschlossen darauf hin\, eine Band zu gründen. Einzi
 ger Lichtblick in Peter Fritschis nicht freiwilligem Militärdienst war\, 
 dass er den Sänger Franz Weishaupt kennenlernte\, der sofort begeistert i
 n das Projekt einstieg.\nNach kurzer Zeit stiess dann der Schlagzeuger And
 reas Krauer dazu\, fortan hiess das Projekt "Grünau-Blues-Band". Im Herbs
 t 1996 trennten sich die Wege der Band und ihres Drummers. Oliver holte da
 rauf hin den schon fast vergessenen Ueli Plüss aus der musikalischen Vers
 enkung\, der seinerseits den Altrocker Paul Amacher dazu animierte\, doch 
 seine Hammond wieder mal zu entstauben und zu gebrauchen. Daraufhin wurde 
 der Bandname aus einer Spontanreaktion in "Godfather's Pencil" geändert\,
  dem Vorläufer des jetzigen Namens "FAT PENCIL".\nDie Urformation von Fat
  Pencil war geboren. Im Mai 1998 musste Franz aus gesundheitlichen Gründe
 n Forfait erklären\, was mit etlichen Wechseln auf der Gesangsposition ve
 rbunden war. Ende 2001 verliess Bassist Oliver die Band\, um seine eigenen
  Projekte zu verwirklichen. Peter erinnerte sich\, dass er schon in seiner
  Jugendzeit zusammen mit dem Bassisten Bruno Fritschi den Zuhörern die Oh
 ren volldröhnte.\nEs brauchte darum keine übermässige Überzeugungskraf
 t\, Bruno im Februar 2002 zum Revival zu bewegen. Den ab September 2002 ve
 rwaisten Posten des Sängers konnte im Januar 2003 mit dem genialen Pat Ru
 epp besetzt werden. Es würde nicht wundern\, wenn jemand wissen möchte\,
  wie der Name Fat Pencil entstand\, aber das ist eine andere Geschichte.
LOCATION:Heaven Music Club\, Hauptstrasse 35\, 8362 Balterswil
DTSTART;TZID=Europe/Zurich:20260509T210000
DTEND;TZID=Europe/Zurich:20260510T040000
ORGANIZER:Heaven Music Club
END:VEVENT
END:VCALENDAR
