BEGIN:VCALENDAR
VERSION:2.0
PRODID:-//Sabre//Sabre VObject 4.5.8//EN
CALSCALE:GREGORIAN
BEGIN:VEVENT
UID:sabre-vobject-30e40c85-21a4-43ca-8e7b-96a256200757
DTSTAMP:20260420T121909Z
SUMMARY:The Sixty Five
DESCRIPTION:Die Zürcher Band The Sixty Five bringt den Sound aus den guten
  alten Vinyl-Rillen zurück auf die Bühne. Sie nehmen das Publikum mit au
 f eine Zeitreise in die 60er- und 70er-Jahre\, in die Ära der analogen\, 
 mit Hand und Herz gemachten Musik.\\n\\nPhilipp Nanzer: Vocals\\nAlbert Ma
 tzinger: Lead &amp\; Rhythm Guitar\\nRobert Kundert: Lead &amp\; Rhythm Gu
 itar\\nSigi Jörling: Bass\\nChrigi Oeler: Drums\, Backing Vocals
LOCATION:Heaven Music Club\, Hauptstrasse 35\, 8362 Balterswil
DTSTART;TZID=Europe/Zurich:20260515T210000
DTEND;TZID=Europe/Zurich:20260516T040000
ORGANIZER:Heaven Music Club
END:VEVENT
END:VCALENDAR
