BEGIN:VCALENDAR
VERSION:2.0
PRODID:-//Sabre//Sabre VObject 4.5.8//EN
CALSCALE:GREGORIAN
BEGIN:VEVENT
UID:sabre-vobject-11c39923-9e2e-4a20-b10a-93d5127da4cf
DTSTAMP:20260424T062936Z
SUMMARY:Tatort Museum
DESCRIPTION:Im Rahmen der Veranstaltungsreihe «Kulturgüterschutz Konkret
 »\, die vom Liechtensteinischen Landesmuseum und der Fachstelle Kulturgü
 terschutz im Amt für Kultur durchgeführt wird\, laden diese zum Vortrag 
 von Erster Kriminalhauptkommissar Christian Klein ein. Es ist Leiter des B
 ereichs Kunst- und Kulturgutdelikte Bereichs beim Bayerischen Landeskrimin
 alamt und spricht zum Thema «Tatort Museum».
LOCATION:Liechtensteinisches LandesMuseum\, Städtle 43\, 9490 Vaduz
DTSTART;TZID=Europe/Zurich:20260504T180000
DTEND;TZID=Europe/Zurich:20260504T180000
ORGANIZER:Liechtensteinisches LandesMuseum
END:VEVENT
END:VCALENDAR
