BEGIN:VCALENDAR
VERSION:2.0
PRODID:-//Sabre//Sabre VObject 4.5.8//EN
CALSCALE:GREGORIAN
BEGIN:VEVENT
UID:sabre-vobject-5069fa40-b944-4eda-8c8c-fdd05913e9a7
DTSTAMP:20260420T042733Z
SUMMARY:Rappi-Jona klingt
DESCRIPTION:Gemeinschaftskonzert - 3 Formationen\, 80 Musizierende\, 1 Leid
 enschaft.\\n\\nGemeinsam spielen das Juborajo\, die Feldmusik Jona und die
  Stadtmusik Rapperswil-Jona ein Programm für Alt und Jung. Die Musikerinn
 en und Musiker aller drei Formationen verschmelzen zu einem grossen Blasor
 chester und demonstrieren ihre Begeisterung für die live gespielte Musik.
 \nEs erwartet das Publikum ein musikalisch jugendliches Programm\, das all
 e berühren und verbinden wird. Die Vereinsmitglieder und die Schülerinne
 n und Schüler der Musikschule Rapperswil-Jona freuen sich\, Rapperswil-Jo
 na klingen zu lassen.\\n\\nHinweis: Das Konzert findet bei regen- und stur
 mfreier Witterung auf dem Curtiplatz in Rapperswil statt. Bei schlechtem W
 etter findet um 16.30 Uhr ein Konzert im Stadtsaal Kreuz in Jona statt. De
 r Entscheid erfolgt kurzfristig.
LOCATION:Curtiplatz\, 8640 Rapperswil SG
DTSTART;TZID=Europe/Zurich:20260905T163000
DTEND;TZID=Europe/Zurich:20260905T173000
ORGANIZER:Musikschule Rapperswil-Jona
END:VEVENT
END:VCALENDAR
