BEGIN:VCALENDAR
VERSION:2.0
PRODID:-//Sabre//Sabre VObject 4.5.8//EN
CALSCALE:GREGORIAN
BEGIN:VEVENT
UID:sabre-vobject-357cabef-d18e-45c1-9040-b6f9570e2177
DTSTAMP:20260419T233351Z
SUMMARY:No Diggity – 30+ Hip Hop RnB Party
DESCRIPTION:No Diggity back again! Die Ü30 Hip Hop &amp\; RnB Party kommt 
 wieder nach St.Gallen. This one’s for the real ones. Sie liefern die Cla
 ssics Beats\, die die goldenen Jahre des Hip Hop und RnB geprägt haben.\\
 n\\nDezent\, in stilvoller Club mit Geschichte\, ein Ort\, an dem viele sc
 hon in ihrer Jugend gefeiert haben. Wo Erinnerungen entstanden sind und N
 ächte legendär wurden.\\n\\nReady or not - here we come!
LOCATION:Dezent\, Hintere Poststrasse 2\, 9000 St. Gallen
DTSTART;TZID=Europe/Zurich:20260530T220000
DTEND;TZID=Europe/Zurich:20260531T040000
ORGANIZER:No Diggity
END:VEVENT
END:VCALENDAR
