BEGIN:VCALENDAR
VERSION:2.0
PRODID:-//Sabre//Sabre VObject 4.5.8//EN
CALSCALE:GREGORIAN
BEGIN:VEVENT
UID:sabre-vobject-b481cae2-b264-4eb5-8018-47dc4d475b3d
DTSTAMP:20260419T233306Z
SUMMARY:Tanzfest Winterthur: Society
DESCRIPTION:Im Rahmen vom Tanzfest Winterthur wird im Foyer ein Tanztheater
  über die Zerbrechlichkeit unserer Gesellschaft von heute gezeigt. Unter 
 der künstlerischen Leitung des gebürtigen Sizilianers Pietro Cono Genova
  erarbeitet die junge Compagnie «Collective Limited Edition» ein zeitgen
 össisches Tanztheater über das fragile Gleichgewicht zwischen Individuum
  und Gesellschaft.\\n\\nIn einer von Normen und Erwartungen geprägten Wel
 t erforscht das Stück Selbstverwirklichung und Zugehörigkeit\, Anpassung
  und Widerstand. Kraftvolle Bewegungen treffen auf stille Momente\, Soli a
 uf kollektive Dynamiken. So wird die Ambivalenz menschlicher Erfahrungen s
 pürbar und ein Raum geöffnet für Reflexion\, Empathie und neue Perspekt
 iven.
LOCATION:Theater Winterthur\, Theaterstrasse 6\, 8400 Winterthur
DTSTART;TZID=Europe/Zurich:20260509T200000
DTEND;TZID=Europe/Zurich:20260509T200000
ORGANIZER:Theater Winterthur
END:VEVENT
END:VCALENDAR
