BEGIN:VCALENDAR
VERSION:2.0
PRODID:-//Sabre//Sabre VObject 4.5.8//EN
CALSCALE:GREGORIAN
BEGIN:VEVENT
UID:sabre-vobject-c35b0f24-9193-41cd-8d6a-473a0e0dd081
DTSTAMP:20260420T121948Z
SUMMARY:The Country Connections
DESCRIPTION:Country Connections ist eine Country-Rock-Band. Ihre Energie un
 d ihr Groove entführen Sie in den Wilden Westen.
LOCATION:Heaven Music Club\, Hauptstrasse 35\, 8362 Balterswil
DTSTART;TZID=Europe/Zurich:20260502T210000
DTEND;TZID=Europe/Zurich:20260503T040000
ORGANIZER:Heaven Music Club
END:VEVENT
END:VCALENDAR
