BEGIN:VCALENDAR
VERSION:2.0
PRODID:-//Sabre//Sabre VObject 4.5.8//EN
CALSCALE:GREGORIAN
BEGIN:VEVENT
UID:sabre-vobject-4fc4760b-3b4c-42cd-8d10-1a3ef11b0e51
DTSTAMP:20260424T055627Z
SUMMARY:Führung mit Genuss
DESCRIPTION:Warum heisst Liechtenstein eigentlich Liechtenstein? Und was ha
 t der Fürst damit zu tun? Interessierte erleben 300 Jahre Geschichte in e
 iner kompakten Kurzführung und anschliessend wahrlich fürstliche Momente
  mit «CreamTea» im SchlossCafé mit Tee\, Scones\, Clotted Cream\, Konfi
 türe und selbstgemachtem Kuchen.
LOCATION:Liechtensteinisches LandesMuseum\, Städtle 43\, 9490 Vaduz
DTSTART;TZID=Europe/Zurich:20260426T150000
DTEND;TZID=Europe/Zurich:20260426T150000
ORGANIZER:Liechtensteinisches LandesMuseum
END:VEVENT
END:VCALENDAR
