BEGIN:VCALENDAR
VERSION:2.0
PRODID:-//Sabre//Sabre VObject 4.5.8//EN
CALSCALE:GREGORIAN
BEGIN:VEVENT
UID:sabre-vobject-7ccb64dd-002a-4638-afeb-724dc67e7ecd
DTSTAMP:20260423T171847Z
SUMMARY:Lapsus: Ego
DESCRIPTION:Ego – Ich natürlich!\\n\n\\n\nNach „Stille Kracht“ und 
 „Circus Lapsus Helveticus“ hat Lapsus endlich wieder Zeit\, an ihrem n
 euen Programm zu arbeiten. Ab November 2025 touren sie damit durch die Sch
 weiz. Erste Einblicke gibt es bereits bei Tryout-Vorstellungen unter dem T
 itel „Mehr pro Gramm - Einmalig“ in ausgewählten Kleintheatern.\\n\n\
 \n\nWährend auf der grossen Weltbühne der Narzissmus seine Blüten treib
 t\, steht bei Lapsus eine Revolte an: Peter Winkler und Christian Höhener
 \, die Menschen hinter dem Kunstprodukt Hitzig und Gschwind\, wollen sich 
 nicht mehr von ihren Bühnenfiguren dominieren lassen. Jetzt sprechen sie!
  Schliesslich sind sie es\, die den beiden das Leben einhauchen. «Falsch!
 »\, halten ihre Alter Egos entgegen. «Ohne uns seid ihr nichts!»\\n\n\\
 n\nIn ihrem achten Bühnenprogramm stellen sich die beiden Komiker die gro
 sse Frage nach der Urheberschaft hinter den vielen Rollen\, die man im Leb
 en so spielt. Dafür lassen sie noch einmal alle ihre Figuren auftreten\, 
 die sie in ihrer Karriere geschaffen haben: Von den schwingenden Bauern Se
 llerie und Rinderwahn\, mit denen alles begonnen hat\, über die singenden
  Schwaben Harald & Harald bis zu den kultigen Lokalmatadoren Theo Hitzig u
 nd Bruno Gschwind. Neu im Reigen: Peter und Christian. Die Echten also\, i
 n Fleisch und Blut.\\n\n\\n\nDas verspricht ein heiles Durcheinander\, vie
 le grosse Lachnummern sowie ein rasantes Spiel mit allen künstlerischen u
 nd technischen Mitteln – wie es Lapsus auszeichnet. Bleibt die Frage:  W
 er genau ist es\, der sich hier so gross aufspielt?
LOCATION:Gemeindezentrum Schwanden\, Schulhausstrasse 6\, 8762 Schwanden GL
DTSTART;TZID=Europe/Zurich:20270213T193000
DTEND;TZID=Europe/Zurich:20270213T213000
ORGANIZER:Kulturverein Glarus Süd
END:VEVENT
END:VCALENDAR
