BEGIN:VCALENDAR
VERSION:2.0
PRODID:-//Sabre//Sabre VObject 4.5.8//EN
CALSCALE:GREGORIAN
BEGIN:VEVENT
UID:sabre-vobject-aca1c66c-c156-49f3-a670-423be4c76fc3
DTSTAMP:20260420T100321Z
SUMMARY:Dr. Leon Windscheid
DESCRIPTION:Über 300.000 Menschen haben Dr. Leon Windscheid bei seinen aus
 verkauften Shows in Deutschland\, Österreich und der Schweiz schon erlebt
 . Sein Podcast Betreutes Fühlen erreicht Millionen\, seine Bücher sind B
 estseller und im ZDF begeistert er regelmässig ein breites Publikum für 
 Psychologie.\\n\\nJetzt geht Leon mit seinem neuen Live-Programm »Einfach
  sein« auf Tour und das genau zur richtigen Zeit. Weil einfach sein noch 
 nie so kompliziert war.\\n\\nAlgorithmen sagen uns\, welche Serie uns gef
 ällt und wen wir daten\, aber wenn man uns fragt\, was wir wirklich wolle
 n\, antworten wir mit einem Schulterzucken. Wir leben länger als jede Gen
 eration vor uns und haben doch am wenigsten Zeit. Alles Wissen ist nur ein
 en Klick entfernt\, aber wir verstehen die Welt nicht mehr. Die Körper si
 nd optimiert\, der Schlaf getrackt\, die Schritte gezählt – und jetzt? 
 Die meisten von uns fühlen\, dass wir am Falschen arbeiten. Was wir voran
 treiben sollen\, bringt uns nicht wirklich vorwärts.\\n\\nGenau hier begi
 nnt Einfach sein.\\n\\nLeon übersetzt Wissenschaft für unseren Alltag. A
 temberaubende Experimente\, die neuesten Hirn-Scan-Studien und die aktuell
 sten Forschungsergebnisse der grössten Köpfe der Psychologie\, was Leon 
 auf die Bühne bringt\, ist den meisten noch völlig unbekannt. Oder schon
 mal von Pang Ting als Lebensziel\, Fuchsin für die wahre Liebe oder den M
 illionen Protozoen in unserem Körper gehört\, die unsere Leistung und Ge
 fühle lenken?\\n\\nWer kommt\, nimmt etwas für sich mit. Dabei ist das Z
 iel des Abends eine richtig gute Zeit zusammen. Es wird mal laut gelacht u
 nd mal nachdenklich ruhig und am Ende geht die Erkenntnis mit nach Hause\,
  wie einfach es sein kann\, einfach zu sein.\nTüröffnung: 1 Stunde vor B
 eginn\\nTüröffnung Upgrade: 1.5 Stunden vor Beginn
LOCATION:Tonhalle\, Museumstrasse 25\, 9000 St. Gallen
DTSTART;TZID=Europe/Zurich:20270417T200000
DTEND;TZID=Europe/Zurich:20270417T200000
ORGANIZER:act entertainment ag
END:VEVENT
END:VCALENDAR
