BEGIN:VCALENDAR
VERSION:2.0
PRODID:-//Sabre//Sabre VObject 4.5.8//EN
CALSCALE:GREGORIAN
BEGIN:VEVENT
UID:sabre-vobject-742aad71-c673-4969-a13a-71e43d466b0d
DTSTAMP:20260424T115305Z
SUMMARY:Was kommt da noch?
DESCRIPTION:Was kommt da noch? ist ein partizipatives Kunstprojekt zwischen
  Tanz\, Landschaft und Aufmerksamkeit im öffentlichen Raum – eine Einla
 dung\, sich neu mit Körper\, Bewegung\, Klang und Umgebung zu verbinden. 
 Das Projekt von Elenita Queiróz bringt professionelle Tänzerinnen\, Musi
 kerinnen und Laien zusammen.\\n\n\\n\nIn sechs Städten und drei Ländern 
 entstehen einzigartige Performances\, die aus intensiven Workshops hervorg
 ehen – begleitet von Live-Musik. Teilnehmende – mit oder ohne Tanzerfa
 hrung – erleben einen künstlerischen Prozess\, der sie auf körperliche
 r\, kreativer und emotionaler Ebene berührt und herausfordert.\\n\n\\n\nM
 it Mara Natterer\, Léa Thomen\, Elenita Queiróz\, Aviv Peretz und Perfor
 mer:innen.
LOCATION:Junge Bühne Toggenburg\, Stadtbrücke 3\, 9620 Lichtensteig
DTSTART;TZID=Europe/Zurich:20260501T193000
DTEND;TZID=Europe/Zurich:20260501T193000
ORGANIZER:Basis 56
END:VEVENT
END:VCALENDAR
