BEGIN:VCALENDAR
VERSION:2.0
PRODID:-//Sabre//Sabre VObject 4.5.8//EN
CALSCALE:GREGORIAN
BEGIN:VEVENT
UID:sabre-vobject-839581d7-9474-4456-9601-6b9f4f1e5ad4
DTSTAMP:20260420T021042Z
SUMMARY:J. S. Bach: BWV 174 «Ich liebe den Höchsten von ganzem Gemüte»
DESCRIPTION:In aller Grossartigkeit blieb Bach stets bodenständig und neig
 te an sich kaum zur kompositorischen Hybris. Doch der von ihm 1729 in der 
 Sinfonia zur Kantate BWV 174 vorgelegte Versuch\, den bereits zehnstimmige
 n Kopfsatz des Brandenburgischen Konzertes Nr. 3 noch um ein obligates Hö
 rnerpaar sowie einen Oboen-Streicher-Chor zu erweitern\, kommt in seiner k
 ühnen Meisterschaft einer solchen doch ziemlich nahe. Ob Bach so den in d
 er Kantate thematisierten himmelweiten Unterschied zwischen göttlicher Ma
 jestät und unvollkommenem menschlichem Liebesstreben ausdrücken wollte\,
  muss offenbleiben. Die auf dieses massive Portal folgenden Rezitative und
  Arien versuchen sich jedenfalls nicht an einer weiteren Überbietung\, so
 ndern setzen ganz auf dezente Klangfarben und klug disponierte Unisonofüh
 rungen.\\n\n\\n\nMit einer Reflexion über den Kantatentext von Olivia El 
 Sayed\\n\n\\n\nLia Andres\, Sopran\\n\nElvira Bill\, Alt\\n\nBernhard Berc
 htold\, Tenor\\n\nSebastian Noack\, Bass\\n\n\\n\nOrchester der J. S. Bach
 -Stiftung\\n\nRudolf Lutz\, LeitungProgramm:\\n\n17.30 Uhr \\n\nMusikalisc
 h-theologische Werkeinführung mit Rudolf Lutz und Pfr. Niklaus Peter\\n\n
 \\n\n19.00 - ca. 20.30 Uhr\\n\n1. Konzertaufführung\\n\nReflexion\\n\n2. 
 Konzertaufführung
LOCATION:Evang.-ref. Kirche Trogen\, Landsgemeindeplatz 1\, 9043 Trogen
DTSTART;TZID=Europe/Zurich:20260529T190000
DTEND;TZID=Europe/Zurich:20260529T203000
ORGANIZER:J. S. Bach St. Gallen AG
END:VEVENT
END:VCALENDAR
