BEGIN:VCALENDAR
VERSION:2.0
PRODID:-//Sabre//Sabre VObject 4.5.8//EN
CALSCALE:GREGORIAN
BEGIN:VEVENT
UID:sabre-vobject-0e3ebfa8-9241-4aaa-83e5-229a3d782528
DTSTAMP:20260425T103107Z
SUMMARY:Organspende - wissenswertes aus medizinischer und ganzheitlicher Si
 cht
DESCRIPTION:Mit Hinblick auf die geplante Gesetzesänderung zur Organspende
  sollen Hintergründe und Fragen aus medizinischer und ganzheitlicher Sich
 t dazu beleuchtet werden.
LOCATION:Katharinensaal\, Katharinengasse 11\, 9000 St. Gallen
DTSTART;TZID=Europe/Zurich:20260529T193000
DTEND;TZID=Europe/Zurich:20260529T210000
ORGANIZER:Ekkehard-Zweig St.Gallen
END:VEVENT
END:VCALENDAR
