BEGIN:VCALENDAR
VERSION:2.0
PRODID:-//Sabre//Sabre VObject 4.5.8//EN
CALSCALE:GREGORIAN
BEGIN:VEVENT
UID:sabre-vobject-94859220-a070-46cb-8174-7dc47392e980
DTSTAMP:20260420T191029Z
SUMMARY:Erfreuliche Universität
DESCRIPTION: \nDiese Veranstaltung musste leider abgesagt werden.\nImmer g
 egen Ende des Monats trifft sich die Erfreuliche Universität Palace zu ih
 rer Talkshow: Eingeladen sind jeweils zwei Gäste\, die aus unterschiedlic
 hen beruflichen\, biografischen und politischen Perspektiven über ein akt
 uelles Thema sprechen. Moderiert werden die Gespräche vom WOZ-Journaliste
 n Kaspar Surber. Das Palastorchester Oetiker mit dem Cellisten Gerhard Oet
 iker sorgt für die musikalische Unterhaltung. Das aktuelle Thema wird jew
 eils Anfang des Monats bekannt gegeben.
LOCATION:Palace\, Zwinglistr. 3\, 9000 St. Gallen
DTSTART;TZID=Europe/Zurich:20260421T193000
DTEND;TZID=Europe/Zurich:20260421T193000
ORGANIZER:Association Palace St.Gallen
END:VEVENT
END:VCALENDAR
