BEGIN:VCALENDAR
VERSION:2.0
PRODID:-//Sabre//Sabre VObject 4.5.8//EN
CALSCALE:GREGORIAN
BEGIN:VEVENT
UID:sabre-vobject-a68e33c1-a541-40b1-bc03-c7497e2c120b
DTSTAMP:20260425T005028Z
SUMMARY:Souvenir Textiles. Vom Kleidungsstück zum Erinnerungsobjekt
DESCRIPTION:Wir alle besitzen Kleidungsstücke\, die wir nicht mehr tragen\
 , aber dennoch behalten. Sie sind Träger von Erinnerungen\, verbunden mit
  Menschen\, Orten oder bestimmten Lebensphasen. Der Workshop Souvenir Text
 iles mit Andrea Vogel lädt dazu ein\, solchen persönlichen Textilien ein
 e neue Form und Bedeutung zu geben.\nAusgehend von einem mitgebrachten Kle
 idungsstück\, einem eigenen Lieblingsstück oder einem Kleidungsstück ei
 nes nahestehenden Menschen\, entsteht durch einen experimentellen\, handwe
 rklichen Prozess ein bleibendes Werk. Die Textilien werden zerschnitten\, 
 neu zusammengesetzt und mithilfe eines härtenden Bindemittels (hautvertr
 äglich) von einem weichen\, tragbaren Material in eine feste Fläche\, Fo
 rm oder Figur überführt.\nIm Zentrum steht die Transformation des Materi
 als: Kleidung löst sich aus ihrer ursprünglichen Funktion und wird zu ei
 nem Erinnerungsobjekt. Die Teilnehmenden arbeiten unter Anleitung der Kuns
 tschaffenden Andrea Vogel prozesshaft und individuell\, mit Fokus auf Mate
 rial\, Verdichtung\, Oberfläche und Form. \nInformationen\nDer Workshop r
 ichtet sich an alle\, die sich künstlerisch mit Textilien\, Erinnerung un
 d materieller Veränderung auseinandersetzen möchten. Vorkenntnisse sind 
 nicht erforderlich. Der Workshop ist kostenpflichtig\, die Teilnehmergebü
 hr beträgt CHF 120.-. Mitgliedern des Vereins Textilmuseum gewähren wir 
 einen Rabatt von 10% auf den Teilnahmegebühr. Bitte beachten Sie\, dass d
 ie Anmeldung zu der Veranstaltung gemäss unserer AGB verbindlich ist.\nT 
 +41 71 228 00 10\\n\nedu@textilmuseum.ch
LOCATION:Textilmuseum\, Vadianstrasse 2\, 9000 St.Gallen
DTSTART;TZID=Europe/Zurich:20260425T110000
DTEND;TZID=Europe/Zurich:20260425T160000
ORGANIZER:Textilmuseum
END:VEVENT
END:VCALENDAR
