BEGIN:VCALENDAR
VERSION:2.0
PRODID:-//Sabre//Sabre VObject 4.5.8//EN
CALSCALE:GREGORIAN
BEGIN:VEVENT
UID:sabre-vobject-c46cba94-1520-423a-8447-fd7645843905
DTSTAMP:20260419T223340Z
SUMMARY:Konzert am Mittag
DESCRIPTION:Die musikalische Mittagspause im Museumscafé. Eintritt: freiwi
 llige SpendeAnmeldung für das Mittagsmenü: T +43 (0)5574 46050-550
LOCATION:Vorarlberg Museum\, Kornmarktplatz 1\, 6900 Bregenz
DTSTART;TZID=Europe/Zurich:20260528T121500
DTEND;TZID=Europe/Zurich:20260528T121500
ORGANIZER:
END:VEVENT
END:VCALENDAR
