BEGIN:VCALENDAR
VERSION:2.0
PRODID:-//Sabre//Sabre VObject 4.5.8//EN
CALSCALE:GREGORIAN
BEGIN:VEVENT
UID:sabre-vobject-957a863e-2a67-49ac-bc2c-cefbecb74ab8
DTSTAMP:20260425T143537Z
SUMMARY:Kreativatelier – Workshop für Kinder
DESCRIPTION:Kreatives Arbeiten mit Kindern ab 6 JahrenKosten: 9 Euro\, ohne
  Anmeldung\, ohne Elternbegleitung
LOCATION:Vorarlberg Museum\, Kornmarktplatz 1\, 6900 Bregenz
DTSTART;TZID=Europe/Zurich:20260509T143000
DTEND;TZID=Europe/Zurich:20260509T143000
ORGANIZER:Vorarlberg Museum
END:VEVENT
END:VCALENDAR
