BEGIN:VCALENDAR
VERSION:2.0
PRODID:-//Sabre//Sabre VObject 4.5.8//EN
CALSCALE:GREGORIAN
BEGIN:VEVENT
UID:sabre-vobject-fd37a570-4424-46dc-b025-334e3996316d
DTSTAMP:20260419T235518Z
SUMMARY:danza danza!
DESCRIPTION:Auch wenn das Publikum bei diesem Konzert nicht direkt zum Tanz
 en aufgefordert werden wird – in den Beinen jucken wird die zur Aufführ
 ung gebrachte Musik jung und alt. Tänzerische Leichtigkeit im Herzen und 
 beschwingte Musik im Ohr.\nOb Ballett-Musik von Praetorius\, eine Saraband
 e von Telemann\, ¾-Klänge von Sammartini\, ein Tango von Piazzolla oder 
 Strauss’ Donauwalzer: Es wird nicht ganz einfach sein\, bei all dieser v
 ertonten Lebensfreude still sitzen zu bleiben.
LOCATION:Lokremise\, Grünbergstrasse 7\, 9004 St.Gallen
DTSTART;TZID=Europe/Zurich:20260510T110000
DTEND;TZID=Europe/Zurich:20260510T110000
ORGANIZER:kammerorchester sankt gallen
END:VEVENT
END:VCALENDAR
