BEGIN:VCALENDAR
VERSION:2.0
PRODID:-//Sabre//Sabre VObject 4.5.8//EN
CALSCALE:GREGORIAN
BEGIN:VEVENT
UID:sabre-vobject-ecde646a-4678-4246-9d7c-e4435fae1c17
DTSTAMP:20260419T235109Z
SUMMARY:danza danza!
DESCRIPTION:Auch wenn das Publikum bei diesem Konzert nicht direkt zum Tanz
 en aufgefordert werden wird – in den Beinen jucken wird die zur Aufführ
 ung gebrachte Musik jung und alt. Tänzerische Leichtigkeit im Herzen und 
 beschwingte Musik im Ohr.\nOb Ballett-Musik von Praetorius\, eine Saraband
 e von Telemann\, ¾-Klänge von Sammartini\, ein Tango von Piazzolla oder 
 Strauss’ Donauwalzer: Es wird nicht ganz einfach sein\, bei all dieser v
 ertonten Lebensfreude still sitzen zu bleiben.
LOCATION:Evang. Kirche Herisau\, Platz\, 9100 Herisau
DTSTART;TZID=Europe/Zurich:20260509T190000
DTEND;TZID=Europe/Zurich:20260509T190000
ORGANIZER:kammerorchester sankt gallen
END:VEVENT
END:VCALENDAR
