BEGIN:VCALENDAR
VERSION:2.0
PRODID:-//Sabre//Sabre VObject 4.5.8//EN
CALSCALE:GREGORIAN
BEGIN:VEVENT
UID:sabre-vobject-f02e8ea1-a2c9-4309-9ff5-c6e8db52c0ad
DTSTAMP:20260422T031730Z
SUMMARY:Offene Gartennachmittag für Kinder
DESCRIPTION:Zusammen mit den Kindern/Familien bauen die Teilnehmenden Gemü
 se\, Kräuter und Blumen an\, erforschen Erde und beobachtet Insekten. Nac
 h der Arbeit im Garten bereiten sie zusammen einen z’Vieri mit essbaren 
 Pflanzen aus dem Garten.\nDer kostenlose Anlass findet bei jedem Wetter st
 att\, für Regentage gibt es ein gemütliches Gartenhaus. Kinder bis zum K
 indergartenalter müssen von einer volljährigen Person begleitet werden\,
  ab der 1. Klasse ist ein selbständiger Besuch möglich. Für Kinder die 
 das Angebot ohne Begleitperson nutzen ist eine einmalige Anmeldung nötig.
LOCATION:Areal Bach\, Bachstrasse 10\, 9000 St. Gallen
DTSTART;TZID=Europe/Zurich:20260902T140000
DTEND;TZID=Europe/Zurich:20260902T160000
ORGANIZER:Bioterra
END:VEVENT
END:VCALENDAR
