BEGIN:VCALENDAR
VERSION:2.0
PRODID:-//Sabre//Sabre VObject 4.5.8//EN
CALSCALE:GREGORIAN
BEGIN:VEVENT
UID:sabre-vobject-ffcdef2b-a9c8-455c-a10b-9b9564c591bc
DTSTAMP:20260422T032016Z
SUMMARY:Offene Gartennachmittag für Kinder
DESCRIPTION:Zusammen mit den Kindern/Familien bauen die Teilnehmenden Gemü
 se\, Kräuter und Blumen an\, erforschen Erde und beobachtet Insekten. Nac
 h der Arbeit im Garten bereiten sie zusammen einen z’Vieri mit essbaren 
 Pflanzen aus dem Garten.\nDer kostenlose Anlass findet bei jedem Wetter st
 att\, für Regentage gibt es ein gemütliches Gartenhaus. Kinder bis zum K
 indergartenalter müssen von einer volljährigen Person begleitet werden\,
  ab der 1. Klasse ist ein selbständiger Besuch möglich. Für Kinder die 
 das Angebot ohne Begleitperson nutzen ist eine einmalige Anmeldung nötig.
LOCATION:Areal Bach\, Bachstrasse 10\, 9000 St. Gallen
DTSTART;TZID=Europe/Zurich:20260520T140000
DTEND;TZID=Europe/Zurich:20260520T160000
ORGANIZER:Bioterra
END:VEVENT
END:VCALENDAR
