BEGIN:VCALENDAR
VERSION:2.0
PRODID:-//Sabre//Sabre VObject 4.5.8//EN
CALSCALE:GREGORIAN
BEGIN:VEVENT
UID:sabre-vobject-f0a6565b-c59d-42f6-8f9f-bfb40a213890
DTSTAMP:20260423T053053Z
SUMMARY:Shared Reading - miteinander lesen\n
DESCRIPTION:"Shared Reading – an Worten wachsen" ist eine etwas andere Le
 segruppe. Wir lassen uns von Worten leiten und tauchen gemeinsam lesend in
  Geschichten und Gedichte ein.\\nIm Austausch erfahren wir mehr über die 
 Texte\, über uns\, über die Welt. Wer mag\, liest vor oder tauscht sich 
 in der Gruppe aus. Doch auch wer nur zuhört\, gehört bereits dazu.Es ist
  keine Vorbereitung und kein Vorwissen nötig. Die Texte werden auf Deutsc
 h gelesen.Veranstaltungsort:\\nBibliothek Hauptpost\, Café St GallAnzahl:
 \\nMax. 12 Personen pro AbendLeseleitung:        \\nIrène Blum\, bl
 umimpuls@bluewin.chAnmeldung:\\nDie Anmeldung erfolgt über die Anmeldepl
 attform kulibri neues Fenster. Eine detaillierte Anleitung für kulibri fi
 nden Sie hier.\\nFreiwillige Kollekte
LOCATION:Bibliothek Hauptpost St.Gallen\, Gutenbergstrasse 2\, 9000 St.Gall
 en
DTSTART;TZID=Europe/Zurich:20260423T190000
DTEND;TZID=Europe/Zurich:20260423T190000
ORGANIZER:Bibliothek Hauptpost
END:VEVENT
END:VCALENDAR
