BEGIN:VCALENDAR
VERSION:2.0
PRODID:-//Sabre//Sabre VObject 4.5.8//EN
CALSCALE:GREGORIAN
BEGIN:VEVENT
UID:sabre-vobject-889e5a3b-1671-4e25-aa52-278bc59b039e
DTSTAMP:20260424T161114Z
SUMMARY:Dyse (DE) // Anger Mgmt (CH)
DESCRIPTION:DÿSE\\nHEAVY STONER DUO aus Deutschland. Wohl bekannt dafür E
 nergien einer 16 köpfigen Bigband in den Schatten zu stellen.ANGER MGMT. 
 -Album Release Show-\\nSind es die Zeiten\, die Kunst und Kultur wieder zu
  wütenden Aussagen treiben? Zumindest gibt es wieder Bands\, die etwas sa
 gen wollen. Die Inhalte für genauso wertvoll ansehen\, wie die Musik. Ban
 ds\, die sich positionieren\, die unruhig auf der Stelle treten und politi
 sch aktiv sind. Die aber auch musikalisch gegen den Strom schwingen\, die 
 sich Emotion statt Perfektion auf die Fahne schreiben\, Singles und Songs 
 raushauen\, als ob es kein Morgen gibt… und wer schon Begriffe wie Anger
  im Namen und Energy im Albumtitel hat\, meint es ernst.
LOCATION:Gaswerk\, Untere Schöntalstrasse 19\, 8406 Winterthur
DTSTART;TZID=Europe/Zurich:20260505T200000
DTEND;TZID=Europe/Zurich:20260505T200000
ORGANIZER:
END:VEVENT
END:VCALENDAR
