BEGIN:VCALENDAR
VERSION:2.0
PRODID:-//Sabre//Sabre VObject 4.5.8//EN
CALSCALE:GREGORIAN
BEGIN:VEVENT
UID:sabre-vobject-315d14c6-5946-41c7-98b2-cbfa1d85bd75
DTSTAMP:20260421T153726Z
SUMMARY:MediaLab
DESCRIPTION:Raum für künstlerische Experimente\n36 Stunden bis zur Präse
 ntation!\nWährend zwei Tagen öffnet das Schloss seine Türen für zwölf
  professionelle Kunstschaffende aller Sparten aus der Region (Rheintal\, S
 t. Gallen\, Liechtenstein) und verwandelt sich in ein explosives Labor der
  Kreativität. Schauspielerinnen\, Regisseure\, Musikerinnen und Künstler
  aus verschiedenen Disziplinen stellen sich der Herausforderung\, innerhal
 b von 36 Stunden zusammen kurze Performances und Konzepte zu entwickeln\, 
 die am Ende dieses künstlerischen Marathons dem Publikum präsentiert wer
 den. Neue Formen der Zusammenarbeit als künstlerischer Inkubator für die
  Region!
LOCATION:Schloss Werdenberg\, Schlossweg\, 9470 Werdenberg
DTSTART;TZID=Europe/Zurich:20260424T093000
DTEND;TZID=Europe/Zurich:20260424T210000
ORGANIZER:Schloss Werdenberg
END:VEVENT
END:VCALENDAR
