BEGIN:VCALENDAR
VERSION:2.0
PRODID:-//Sabre//Sabre VObject 4.5.8//EN
CALSCALE:GREGORIAN
BEGIN:VEVENT
UID:sabre-vobject-08db8c39-d2ac-4852-9f65-eb6a77f67570
DTSTAMP:20260419T235058Z
SUMMARY:The Beauty of the Earth
DESCRIPTION:Lyrische und herzerwärmende Werke für Chor und Orchester von 
 John Rutter\, Ralph Vaughan Williams und Richard Strauss.\nZusammen mit de
 m Sinfonischen Orchester Arbon wird die Schönheit der Natur und des Leben
 s besungen und Staunen\, Dankbarkeit und Freude\, aber auch Fantasie und H
 umor in Klang verwandelt.
LOCATION:Kulturzentrum Presswerk\, Hamelstrasse 15\, 9320 Arbon
DTSTART;TZID=Europe/Zurich:20260607T170000
DTEND;TZID=Europe/Zurich:20260607T180000
ORGANIZER:Konzertchor Ostschweiz
END:VEVENT
END:VCALENDAR
